BEGIN:VCALENDAR
VERSION:2.0
PRODID:-//StartupBrett - ECPv5.14.0.4//NONSGML v1.0//EN
CALSCALE:GREGORIAN
METHOD:PUBLISH
X-WR-CALNAME:StartupBrett
X-ORIGINAL-URL:https://www.startupbrett.de
X-WR-CALDESC:Veranstaltungen für StartupBrett
BEGIN:VTIMEZONE
TZID:Europe/Berlin
BEGIN:DAYLIGHT
TZOFFSETFROM:+0100
TZOFFSETTO:+0200
TZNAME:CEST
DTSTART:20190331T010000
END:DAYLIGHT
BEGIN:STANDARD
TZOFFSETFROM:+0200
TZOFFSETTO:+0100
TZNAME:CET
DTSTART:20191027T010000
END:STANDARD
END:VTIMEZONE
BEGIN:VEVENT
DTSTART;VALUE=DATE:20191019
DTEND;VALUE=DATE:20191021
DTSTAMP:20260419T162212
CREATED:20190926T112106Z
LAST-MODIFIED:20191004T083339Z
UID:26635-1571443200-1571615999@www.startupbrett.de
SUMMARY:Entrepreneurship Summit 2019
DESCRIPTION:Was: Entrepreneurship Summit\nWann: 19. und 20.10.2019\nWo: Henry-Ford-Bau der FU Berlin\nWebseite: www.entrepreneurship.de/summit\n\n„Jeder Fortschritt braucht Menschen\, die nicht mit dem zufrieden sind\, was es gibt. Menschen mit ökologischer\, sozialer und künstlerischer Fantasie\, gerade auch im Feld der Ökonomie. Menschen\, die Lust am Experimentieren haben\, die neue Spielräume ausloten\, die neue Wege gehen und damit auch bessere Wege aufzeigen.“ (Prof. Günter Faltin) \nDer Entrepreneurship Summit ist der Ort\, an dem sich genau solche Menschen begegnen und austauschen können. An 2 Tagen treffen sich rund 1000 Entrepreneure\, um sich von mehr als 100 Experten & Gründern inspirieren zu lassen\, miteinander zu diskutieren und aktiv zu werden. Sei Teil der Lösung! Komm zum Summit! \nTickets bekommst du hier!
URL:https://www.startupbrett.de/event/entrepreneurship-summit/
LOCATION:Henry-Ford-Bau der FU Berlin\, Garystr. 35\, Berlin\, 14195\, Deutschland
END:VEVENT
END:VCALENDAR