BEGIN:VCALENDAR
VERSION:2.0
PRODID:-//StartupBrett - ECPv5.14.0.4//NONSGML v1.0//EN
CALSCALE:GREGORIAN
METHOD:PUBLISH
X-WR-CALNAME:StartupBrett
X-ORIGINAL-URL:https://www.startupbrett.de
X-WR-CALDESC:Veranstaltungen für StartupBrett
BEGIN:VTIMEZONE
TZID:Europe/Berlin
BEGIN:DAYLIGHT
TZOFFSETFROM:+0100
TZOFFSETTO:+0200
TZNAME:CEST
DTSTART:20190331T010000
END:DAYLIGHT
BEGIN:STANDARD
TZOFFSETFROM:+0200
TZOFFSETTO:+0100
TZNAME:CET
DTSTART:20191027T010000
END:STANDARD
END:VTIMEZONE
BEGIN:VEVENT
DTSTART;VALUE=DATE:20191024
DTEND;VALUE=DATE:20191025
DTSTAMP:20260419T143713
CREATED:20191023T084841Z
LAST-MODIFIED:20191023T084841Z
UID:26899-1571875200-1571961599@www.startupbrett.de
SUMMARY:CX1 - Customer Experience Konferenz
DESCRIPTION:Was: CX1 – Customer Experience Konferenz\nWann: 24. Oktober 2019\nWo: Berliner Spreespeicher\, Stralauer Allee 2\, 10245 Berlin\nWebseite: www.zenloop.com/de/cx1\nEintritt: Tickets ab 249 Euro\n\nUnter dem Motto „Making Every Moment Matter“ findet am 24. Oktober im Berliner Spreespeicher mit der CX1 die führende Customer Experience Konferenz im deutschsprachigen Raum statt. \nOrganisiert von zenloop\, kommen 250 CEOs\, CMOs sowie CRM Experten des digitalen Handels in der Hauptstadt zusammen. Im Mittelpunkt der Konferenz stehen die Themen Customer Experience und Customer Retention. \nDabei präsentiert die CX1 Customer Experience Experten namhafter Digital-Unternehmen wie Facebook\, Zalando und Jochen Schweizer\, die in praxisnahen Keynotes ihr umfassendes Fachwissen aus mehreren Jahren Erfahrung teilen. Hands-on Praxistipps\, detaillierte Erklärungen sowie Best Practices anhand konkreter Beispiele aus dem Alltag der Branchen-Champions erfahren Besucher in den 90-minütigen Masterclasses. Roundtables in kleiner Runde regen zum offenen Diskurs an und ermöglichen den fachbezogenen Austausch untereinander. \nPaul Schwarzenholz\, Mitgründer und Managing Director zenloop: „Wir wollen\, dass die Teilnehmer so viel wie möglich an Wissen mitnehmen können. Deshalb haben wir uns für Roundtables und Masterclasses entschieden\, in denen man mit den Teilnehmern interagieren kann.“ \nZusätzlich können sich die Besucher auch auf viel Raum zum Networking sowie ein Get-together am Abend freuen. \nWeitere Informationen zur Konferenz und zur Agenda finden sich unter: www.zenloop.com/de/cx1
URL:https://www.startupbrett.de/event/cx1-customer-experience-konferenz/
LOCATION:Spreespeicher\, Stralauer Allee 2\, Berlin\, 10245\, Deutschland
END:VEVENT
END:VCALENDAR